BEGIN:VCALENDAR
VERSION:2.0
PRODID:-//Public Relations Society - ECPv6.15.20//NONSGML v1.0//EN
CALSCALE:GREGORIAN
METHOD:PUBLISH
X-WR-CALNAME:Public Relations Society
X-ORIGINAL-URL:https://prsociety.in
X-WR-CALDESC:Events for Public Relations Society
REFRESH-INTERVAL;VALUE=DURATION:PT1H
X-Robots-Tag:noindex
X-PUBLISHED-TTL:PT1H
BEGIN:VTIMEZONE
TZID:UTC
BEGIN:STANDARD
TZOFFSETFROM:+0000
TZOFFSETTO:+0000
TZNAME:UTC
DTSTART:20220101T000000
END:STANDARD
END:VTIMEZONE
BEGIN:VEVENT
DTSTART;VALUE=DATE:20230414
DTEND;VALUE=DATE:20230415
DTSTAMP:20260424T120353
CREATED:20240131T042614Z
LAST-MODIFIED:20240131T042614Z
UID:860-1681430400-1681516799@prsociety.in
SUMMARY:First Tripartite meeting at Press Club of India
DESCRIPTION:
URL:https://prsociety.in/events/first-tripartite-meeting-at-press-club-of-india/
ATTACH;FMTTYPE=image/jpeg:https://prsociety.in/wp-content/uploads/2024/01/B.jpg
END:VEVENT
BEGIN:VEVENT
DTSTART;VALUE=DATE:20230421
DTEND;VALUE=DATE:20230422
DTSTAMP:20260424T120353
CREATED:20240131T042726Z
LAST-MODIFIED:20240220T014651Z
UID:863-1682035200-1682121599@prsociety.in
SUMMARY:National PR day celebrated at Press Club of India
DESCRIPTION:
URL:https://prsociety.in/events/national-pr-day-celebrated-at-press-club-of-india/
ATTACH;FMTTYPE=image/jpeg:https://prsociety.in/wp-content/uploads/2024/01/A.jpg
END:VEVENT
END:VCALENDAR