BEGIN:VCALENDAR
VERSION:2.0
PRODID:-//Public Relations Society - ECPv6.15.20//NONSGML v1.0//EN
CALSCALE:GREGORIAN
METHOD:PUBLISH
X-WR-CALNAME:Public Relations Society
X-ORIGINAL-URL:https://prsociety.in
X-WR-CALDESC:Events for Public Relations Society
REFRESH-INTERVAL;VALUE=DURATION:PT1H
X-Robots-Tag:noindex
X-PUBLISHED-TTL:PT1H
BEGIN:VTIMEZONE
TZID:Asia/Kolkata
BEGIN:STANDARD
TZOFFSETFROM:+0530
TZOFFSETTO:+0530
TZNAME:IST
DTSTART:20230101T000000
END:STANDARD
END:VTIMEZONE
BEGIN:VTIMEZONE
TZID:UTC
BEGIN:STANDARD
TZOFFSETFROM:+0000
TZOFFSETTO:+0000
TZNAME:UTC
DTSTART:20180101T000000
END:STANDARD
END:VTIMEZONE
BEGIN:VEVENT
DTSTART;TZID=Asia/Kolkata:20240915T080000
DTEND;TZID=Asia/Kolkata:20240915T170000
DTSTAMP:20260421T040530
CREATED:20241114T144625Z
LAST-MODIFIED:20260107T112212Z
UID:2905-1726387200-1726419600@prsociety.in
SUMMARY:Dr. Sarvesh Tiwari\, Chairman of PRSD\, had a personal interaction with Donald Trump Jr.\, son of the U.S. President.
DESCRIPTION:
URL:https://prsociety.in/events/dr-sarvesh-tiwari-chairman-of-prsd-had-a-personal-interaction-with-donald-trump-jr-son-of-the-u-s-president/
LOCATION:New Delhi
ATTACH;FMTTYPE=image/jpeg:https://prsociety.in/wp-content/uploads/2024/11/IMG_20241114_202035.jpg
END:VEVENT
BEGIN:VEVENT
DTSTART;TZID=Asia/Kolkata:20240808T080000
DTEND;TZID=Asia/Kolkata:20240808T170000
DTSTAMP:20260421T040530
CREATED:20240814T053319Z
LAST-MODIFIED:20240814T053319Z
UID:2815-1723104000-1723136400@prsociety.in
SUMMARY:PR Society Delhi Veteran   Shri Umesh Mehta Felicitated at Indore Book Launch
DESCRIPTION:Indore.  Shri Umesh Mehta\, a distinguished veteran of the PR Society\, Delhi\, was honoured at a recent event organized by the Madhya Bharat Hindi Samiti in Indore. The occasion was marked by the launch of a significant new book\, with Shri Mehta receiving special recognition for his contributions to the field. \nThe felicitation ceremony\, held on August 8\, 2024\, brought together prominent figures from the literary communities. Shri Mehta was lauded for his longstanding dedication and influence in the industry\, which spanned several decades. \nDuring the event\, speakers highlighted Shri Mehta’s achievements and his role in shaping the landscape of public relations in India. The Madhya Bharat Hindi Samiti expressed their pride in honouring such a notable figure\, emphasizing the importance of his work in promoting Hindi literature and communication. \nThe book launch\, a key part of the event\, also drew considerable attention\, with attendees appreciating the significant contributions of the author and the themes explored in the publication. Shri Mehta’s felicitation added a special touch to the proceedings\, underscoring the respect and admiration he commands within the community. \nThe event concluded with warm congratulations and best wishes for Shri Umesh Mehta\, as attendees celebrated his enduring legacy and contributions to the field of public relations and Hindi literature.
URL:https://prsociety.in/events/pr-society-delhi-veteran-shri-umesh-mehta-felicitated-at-indore-book-launch/
LOCATION:New Delhi
ATTACH;FMTTYPE=image/jpeg:https://prsociety.in/wp-content/uploads/2024/08/UMESH-MEHTA-1.jpg
END:VEVENT
BEGIN:VEVENT
DTSTART;VALUE=DATE:20240808
DTEND;VALUE=DATE:20240809
DTSTAMP:20260421T040530
CREATED:20240808T120545Z
LAST-MODIFIED:20240808T121415Z
UID:2807-1723075200-1723161599@prsociety.in
SUMMARY:PRSD Governing Board meeting held on July 29th 2024 under the chairmanship of  Dr Sarvesh Tiwari.
DESCRIPTION:PRSD Governing Board meeting held on July 29th 2024 under the chairman ship of Dr Sarvesh Tiwari. During the meeting discussion were held on next event of PRSD. \n\n			\n	\n\n.
URL:https://prsociety.in/events/prsd-governing-board-meeting-held-on-july-29th-2024-under-the-chairman-ship-of-dr-sarvesh-tiwari/
LOCATION:New Delhi
ATTACH;FMTTYPE=image/jpeg:https://prsociety.in/wp-content/uploads/2024/08/WhatsApp-Image-2024-08-08-at-5.10.23-PM-1.jpeg
END:VEVENT
BEGIN:VEVENT
DTSTART;VALUE=DATE:20240723
DTEND;VALUE=DATE:20240724
DTSTAMP:20260421T040530
CREATED:20240724T055333Z
LAST-MODIFIED:20240724T055412Z
UID:2558-1721692800-1721779199@prsociety.in
SUMMARY:On National Broadcasting Day today\, PRSD member Dr Lata Suresh was interviewed by All India Radio
DESCRIPTION:On National Broadcasting Day today\, PRSD member Dr Lata Suresh was interviewed by All India Radio\, Jaipur for their special program * kutch Yun Banta hai inka kirdaar shaandaar *\, where She shared her life journey.
URL:https://prsociety.in/events/on-national-broadcasting-day-today-prsd-member-dr-lata-suresh-was-interviewed-by-all-india-radio/
LOCATION:New Delhi
ATTACH;FMTTYPE=image/jpeg:https://prsociety.in/wp-content/uploads/2024/07/WhatsApp-Image-2024-07-23-at-11.09.02-PM.jpeg
END:VEVENT
BEGIN:VEVENT
DTSTART;TZID=Asia/Kolkata:20240717T150000
DTEND;TZID=Asia/Kolkata:20240717T170000
DTSTAMP:20260421T040530
CREATED:20240712T120033Z
LAST-MODIFIED:20240712T120804Z
UID:2538-1721228400-1721235600@prsociety.in
SUMMARY:Webinar On "AI and Media : Transforming Content and Consumption"
DESCRIPTION:
URL:https://prsociety.in/events/webinar-on-ai-and-media-transforming-content-and-consumption/
LOCATION:New Delhi
ATTACH;FMTTYPE=image/jpeg:https://prsociety.in/wp-content/uploads/2024/07/WhatsApp-Image-2024-07-12-at-6.38.24-AM.jpeg
ORGANIZER;CN="PR Society%2C Delhi":MAILTO:info@prsociety.in
END:VEVENT
BEGIN:VEVENT
DTSTART;VALUE=DATE:20240702
DTEND;VALUE=DATE:20240703
DTSTAMP:20260421T040530
CREATED:20240708T062352Z
LAST-MODIFIED:20240708T062603Z
UID:2491-1719878400-1719964799@prsociety.in
SUMMARY:Dr Sarvesh Tiwari visits IICA Manesar
DESCRIPTION:Dr Sarvesh Tiwari \, Chairman\, Public Relations Society\, Delhi and VETRAN PR Expert visited the Indian Institute of Corporate Affairs (IICA). During the visit\, Dr Tiwary discussed various issues about PR and Communications. \nDr Tiwari taken a keen interest in the activities of IICA and also offered his expertise for the benefit of visiting professionals of various discipline. During the visit\, Dr Lata Suresh\, Head of Knowledge Resource Centre\, apprised various activities and initiatives of IICA.
URL:https://prsociety.in/events/dr-sarvesh-tiwari-visits-iica-manesar/
LOCATION:New Delhi
ATTACH;FMTTYPE=image/jpeg:https://prsociety.in/wp-content/uploads/2024/07/PRSD-Chairman-Vists-IICA.jpg
END:VEVENT
BEGIN:VEVENT
DTSTART;VALUE=DATE:20240513
DTEND;VALUE=DATE:20240514
DTSTAMP:20260421T040530
CREATED:20240514T085325Z
LAST-MODIFIED:20240703T130345Z
UID:2354-1715558400-1715644799@prsociety.in
SUMMARY:PR Society Delhi delegation met Hero of Man ki Baat for KISHAN DRONE
DESCRIPTION:Meeting with a true multifaceted personality\, Dr. Shankar Goenka ji was a bliss. Since he is a person of multifaceted skills and traits he hold multile positions and ranks in business world; but above all he is great human being\, humble and every bit of him is worth emulating. He is very effective communicator who can deliver the message like a Pro and that gets register deep within. This is all\, we all took back home when we met him today\, over a brief chat. \nHe was impressed with the work and mandate of PRSD while complementing the members at large he opened the gates for PRSD for all the support at his command. The first meeting was very educatie and helped in paving the way for a long term association and networking. \nDr. Shankar Goenka\, Author\, Motivator\, TEDx Speaker and hero of Man Ki Bat for Krishi Viman Drone that he has develped to fullfill the dream of millions of farmers and lakhpati Didis. He is Passion Driven personality\, innovative and full of determination for building the human capital. \n \nWe believe that the Mentor and Mentee relationship shal bring synergy in delivering the goals of the PRSD as an organization. We are working for a long term partnership with his institution\, and shall announce the same soon. \nDelegation was led by Dr Sarvesh Kumar Tiwary \, Chairman \, PR Society \, Shri Vipin Kharbanda \, Vice Chairman \, Shri G S Bawa \, Secretary \, Shri SANCHIT Sharma \, Jt Secretary \,Dr Lata Suresh \, Ms Prerna Dalakoti and J P Sharma \, member Governing body .
URL:https://prsociety.in/events/pr-society-delhi-delegation-met-hero-of-man-ki-baat-for-kishan-drone/
LOCATION:New Delhi
ATTACH;FMTTYPE=image/jpeg:https://prsociety.in/wp-content/uploads/2024/05/WhatsApp-Image-2024-05-13-at-22.23.43.jpeg
END:VEVENT
BEGIN:VEVENT
DTSTART;VALUE=DATE:20240509
DTEND;VALUE=DATE:20240510
DTSTAMP:20260421T040530
CREATED:20240506T110154Z
LAST-MODIFIED:20240514T070759Z
UID:2347-1715212800-1715299199@prsociety.in
SUMMARY:India Communication Summit '24
DESCRIPTION:https://brandequity.economictimes.indiatimes.com/india-communication-summit
URL:https://prsociety.in/events/india-communication-summit-24/
LOCATION:New Delhi
ATTACH;FMTTYPE=image/jpeg:https://prsociety.in/wp-content/uploads/2024/05/WhatsApp-Image-2024-05-14-at-12.37.04.jpeg
END:VEVENT
BEGIN:VEVENT
DTSTART;VALUE=DATE:20240308
DTEND;VALUE=DATE:20240309
DTSTAMP:20260421T040531
CREATED:20240313T100110Z
LAST-MODIFIED:20240313T124837Z
UID:2279-1709856000-1709942399@prsociety.in
SUMMARY:Public Relations Society\, Delhi honoured women achievers in PR and Communications on International Women's Day
DESCRIPTION:
URL:https://prsociety.in/events/public-relations-society-delhi-honoured-women-achievers-in-pr-and-communications-on-international-womens-day/
LOCATION:New Delhi
ATTACH;FMTTYPE=image/jpeg:https://prsociety.in/wp-content/uploads/2024/03/Gathering-1111-J-P-SHARMA.jpg
END:VEVENT
BEGIN:VEVENT
DTSTART;VALUE=DATE:20231217
DTEND;VALUE=DATE:20231218
DTSTAMP:20260421T040531
CREATED:20240220T033641Z
LAST-MODIFIED:20240221T232544Z
UID:1687-1702771200-1702857599@prsociety.in
SUMMARY:Talk on The Changing Role of Corporate Communications in the Digital Era.
DESCRIPTION:
URL:https://prsociety.in/events/talk-on-the-changing-role-of-corporate-communications-in-the-digital-era/
LOCATION:Press Club of India\, Delhi\, Press Club of India\, Delhi\, India
ATTACH;FMTTYPE=image/jpeg:https://prsociety.in/wp-content/uploads/2024/02/SARVESH-JI-scaled.jpg
END:VEVENT
BEGIN:VEVENT
DTSTART;VALUE=DATE:20230421
DTEND;VALUE=DATE:20230422
DTSTAMP:20260421T040531
CREATED:20240131T042726Z
LAST-MODIFIED:20240220T014651Z
UID:863-1682035200-1682121599@prsociety.in
SUMMARY:National PR day celebrated at Press Club of India
DESCRIPTION:
URL:https://prsociety.in/events/national-pr-day-celebrated-at-press-club-of-india/
LOCATION:New Delhi
ATTACH;FMTTYPE=image/jpeg:https://prsociety.in/wp-content/uploads/2024/01/A.jpg
END:VEVENT
BEGIN:VEVENT
DTSTART;VALUE=DATE:20230414
DTEND;VALUE=DATE:20230415
DTSTAMP:20260421T040531
CREATED:20240131T042614Z
LAST-MODIFIED:20240131T042614Z
UID:860-1681430400-1681516799@prsociety.in
SUMMARY:First Tripartite meeting at Press Club of India
DESCRIPTION:
URL:https://prsociety.in/events/first-tripartite-meeting-at-press-club-of-india/
LOCATION:New Delhi
ATTACH;FMTTYPE=image/jpeg:https://prsociety.in/wp-content/uploads/2024/01/B.jpg
END:VEVENT
BEGIN:VEVENT
DTSTART;VALUE=DATE:20221203
DTEND;VALUE=DATE:20221204
DTSTAMP:20260421T040531
CREATED:20240131T042451Z
LAST-MODIFIED:20240131T042451Z
UID:859-1670025600-1670111999@prsociety.in
SUMMARY:First Edutainment trip to Astroport Sariska
DESCRIPTION:
URL:https://prsociety.in/events/first-edutainment-trip-to-astroport-sariska/
LOCATION:New Delhi
ATTACH;FMTTYPE=image/jpeg:https://prsociety.in/wp-content/uploads/2024/01/C.jpg
END:VEVENT
BEGIN:VEVENT
DTSTART;VALUE=DATE:20220610
DTEND;VALUE=DATE:20220611
DTSTAMP:20260421T040531
CREATED:20240131T023707Z
LAST-MODIFIED:20240131T042308Z
UID:855-1654819200-1654905599@prsociety.in
SUMMARY:PR Society Delhi presents a talk on Effective Communication in Digital Age by Richa Jain Kalra
DESCRIPTION:
URL:https://prsociety.in/events/pr-society-delhi-presents-a-talk-on-effective-communication-in-digital-age-by-richa-jain-kalra/
LOCATION:New Delhi
ATTACH;FMTTYPE=image/jpeg:https://prsociety.in/wp-content/uploads/2024/01/D.jpg
END:VEVENT
BEGIN:VEVENT
DTSTART;VALUE=DATE:20190913
DTEND;VALUE=DATE:20190914
DTSTAMP:20260421T040531
CREATED:20240131T023447Z
LAST-MODIFIED:20240131T023447Z
UID:854-1568332800-1568419199@prsociety.in
SUMMARY:Photography workshop by Umesh Mehta and Pushkar Hans
DESCRIPTION:
URL:https://prsociety.in/events/photography-workshop-by-umesh-mehta-and-pushkar-hans/
LOCATION:New Delhi
ATTACH;FMTTYPE=image/jpeg:https://prsociety.in/wp-content/uploads/2024/01/Photography-workshop.jpg
END:VEVENT
BEGIN:VEVENT
DTSTART;VALUE=DATE:20190815
DTEND;VALUE=DATE:20190816
DTSTAMP:20260421T040531
CREATED:20240131T023241Z
LAST-MODIFIED:20240131T023241Z
UID:853-1565827200-1565913599@prsociety.in
SUMMARY:Flagged off The First Bike Rally to UK- Ladakh
DESCRIPTION:
URL:https://prsociety.in/events/flagged-off-the-first-bike-rally-to-uk-ladakh/
LOCATION:New Delhi
ATTACH;FMTTYPE=image/jpeg:https://prsociety.in/wp-content/uploads/2024/01/150819.jpg
END:VEVENT
BEGIN:VEVENT
DTSTART;VALUE=DATE:20190809
DTEND;VALUE=DATE:20190810
DTSTAMP:20260421T040531
CREATED:20240131T023043Z
LAST-MODIFIED:20240131T023043Z
UID:810-1565308800-1565395199@prsociety.in
SUMMARY:Workshop by Shilpa Gupta
DESCRIPTION:
URL:https://prsociety.in/events/workshop-by-shilpa-gupta/
LOCATION:New Delhi
ATTACH;FMTTYPE=image/jpeg:https://prsociety.in/wp-content/uploads/2024/01/090819.jpg
END:VEVENT
BEGIN:VEVENT
DTSTART;VALUE=DATE:20190614
DTEND;VALUE=DATE:20190615
DTSTAMP:20260421T040531
CREATED:20240131T022913Z
LAST-MODIFIED:20240131T022913Z
UID:812-1560470400-1560556799@prsociety.in
SUMMARY:Sanvaad Volume 2.0
DESCRIPTION:
URL:https://prsociety.in/events/sanvaad-volume-2-0/
LOCATION:New Delhi
ATTACH;FMTTYPE=image/jpeg:https://prsociety.in/wp-content/uploads/2024/01/1.jpg
END:VEVENT
BEGIN:VEVENT
DTSTART;VALUE=DATE:20190510
DTEND;VALUE=DATE:20190511
DTSTAMP:20260421T040531
CREATED:20230824T202439Z
LAST-MODIFIED:20240131T022736Z
UID:330-1557446400-1557532799@prsociety.in
SUMMARY:Launch of Sanvad Series by Padma Shree Mark Tully
DESCRIPTION:
URL:https://prsociety.in/events/launch-of-sanvad-series-by-padma-shree-mark-tully/
LOCATION:New Delhi
ATTACH;FMTTYPE=image/jpeg:https://prsociety.in/wp-content/uploads/2024/01/2.jpg
ORGANIZER;CN="Gary Jones":MAILTO:contact@example.com
END:VEVENT
BEGIN:VEVENT
DTSTART;VALUE=DATE:20190420
DTEND;VALUE=DATE:20190421
DTSTAMP:20260421T040531
CREATED:20240131T020937Z
LAST-MODIFIED:20240131T021451Z
UID:833-1555718400-1555804799@prsociety.in
SUMMARY:First Knowledge Sharing Workshop Between Public Relations\, Delhi Society Took
DESCRIPTION:
URL:https://prsociety.in/events/first-knowledge-sharing-workshop-between-public-relations-delhi-society-took/
LOCATION:Delhi\, New Delhi\, Delhi\, India
ATTACH;FMTTYPE=image/jpeg:https://prsociety.in/wp-content/uploads/2024/01/3.jpeg
END:VEVENT
BEGIN:VEVENT
DTSTART;VALUE=DATE:20190414
DTEND;VALUE=DATE:20190415
DTSTAMP:20260421T040531
CREATED:20240131T013531Z
LAST-MODIFIED:20240131T013531Z
UID:813-1555200000-1555286399@prsociety.in
SUMMARY:Launch of Knowledge Sharing Initiative
DESCRIPTION:
URL:https://prsociety.in/events/launch-of-knowledge-sharing-initiative/
LOCATION:New Delhi
CATEGORIES:Campaign
ATTACH;FMTTYPE=image/jpeg:https://prsociety.in/wp-content/uploads/2024/01/4.jpg
END:VEVENT
BEGIN:VEVENT
DTSTART;VALUE=DATE:20190313
DTEND;VALUE=DATE:20190314
DTSTAMP:20260421T040531
CREATED:20240131T013320Z
LAST-MODIFIED:20240131T013320Z
UID:809-1552435200-1552521599@prsociety.in
SUMMARY:Blood Donation Camp
DESCRIPTION:
URL:https://prsociety.in/events/blood-donation-camp/
LOCATION:New Delhi
CATEGORIES:Campaign
ATTACH;FMTTYPE=image/jpeg:https://prsociety.in/wp-content/uploads/2024/01/6.jpg
END:VEVENT
BEGIN:VEVENT
DTSTART;VALUE=DATE:20190308
DTEND;VALUE=DATE:20190309
DTSTAMP:20260421T040531
CREATED:20240131T005809Z
LAST-MODIFIED:20240131T020244Z
UID:776-1552003200-1552089599@prsociety.in
SUMMARY:Beti Khilao Des Jitao Program
DESCRIPTION:
URL:https://prsociety.in/events/beti-khilao-des-jitao-program/
LOCATION:New Delhi
CATEGORIES:Campaign
ATTACH;FMTTYPE=image/jpeg:https://prsociety.in/wp-content/uploads/2024/01/7.jpg
END:VEVENT
END:VCALENDAR