BEGIN:VCALENDAR
VERSION:2.0
PRODID:-//Public Relations Society - ECPv6.15.20//NONSGML v1.0//EN
CALSCALE:GREGORIAN
METHOD:PUBLISH
X-ORIGINAL-URL:https://prsociety.in
X-WR-CALDESC:Events for Public Relations Society
REFRESH-INTERVAL;VALUE=DURATION:PT1H
X-Robots-Tag:noindex
X-PUBLISHED-TTL:PT1H
BEGIN:VTIMEZONE
TZID:Asia/Kolkata
BEGIN:STANDARD
TZOFFSETFROM:+0530
TZOFFSETTO:+0530
TZNAME:IST
DTSTART:20230101T000000
END:STANDARD
END:VTIMEZONE
BEGIN:VEVENT
DTSTART;VALUE=DATE:20240702
DTEND;VALUE=DATE:20240703
DTSTAMP:20260423T120536
CREATED:20240708T062352Z
LAST-MODIFIED:20240708T062603Z
UID:2491-1719878400-1719964799@prsociety.in
SUMMARY:Dr Sarvesh Tiwari visits IICA Manesar
DESCRIPTION:Dr Sarvesh Tiwari \, Chairman\, Public Relations Society\, Delhi and VETRAN PR Expert visited the Indian Institute of Corporate Affairs (IICA). During the visit\, Dr Tiwary discussed various issues about PR and Communications. \nDr Tiwari taken a keen interest in the activities of IICA and also offered his expertise for the benefit of visiting professionals of various discipline. During the visit\, Dr Lata Suresh\, Head of Knowledge Resource Centre\, apprised various activities and initiatives of IICA.
URL:https://prsociety.in/events/dr-sarvesh-tiwari-visits-iica-manesar/
LOCATION:New Delhi
ATTACH;FMTTYPE=image/jpeg:https://prsociety.in/wp-content/uploads/2024/07/PRSD-Chairman-Vists-IICA.jpg
END:VEVENT
END:VCALENDAR