BEGIN:VCALENDAR
VERSION:2.0
PRODID:-//Public Relations Society - ECPv6.15.20//NONSGML v1.0//EN
CALSCALE:GREGORIAN
METHOD:PUBLISH
X-WR-CALNAME:Public Relations Society
X-ORIGINAL-URL:https://prsociety.in
X-WR-CALDESC:Events for Public Relations Society
REFRESH-INTERVAL;VALUE=DURATION:PT1H
X-Robots-Tag:noindex
X-PUBLISHED-TTL:PT1H
BEGIN:VTIMEZONE
TZID:Asia/Kolkata
BEGIN:STANDARD
TZOFFSETFROM:+0530
TZOFFSETTO:+0530
TZNAME:IST
DTSTART:20230101T000000
END:STANDARD
END:VTIMEZONE
BEGIN:VEVENT
DTSTART;VALUE=DATE:20240509
DTEND;VALUE=DATE:20240510
DTSTAMP:20260423T195828
CREATED:20240506T110154Z
LAST-MODIFIED:20240514T070759Z
UID:2347-1715212800-1715299199@prsociety.in
SUMMARY:India Communication Summit '24
DESCRIPTION:https://brandequity.economictimes.indiatimes.com/india-communication-summit
URL:https://prsociety.in/events/india-communication-summit-24/
ATTACH;FMTTYPE=image/jpeg:https://prsociety.in/wp-content/uploads/2024/05/WhatsApp-Image-2024-05-14-at-12.37.04.jpeg
END:VEVENT
END:VCALENDAR